BEGIN:VCALENDAR
VERSION:2.0
PRODID:-//Municipalidad de Sunchales - ECPv6.14.2//NONSGML v1.0//EN
CALSCALE:GREGORIAN
METHOD:PUBLISH
X-WR-CALNAME:Municipalidad de Sunchales
X-ORIGINAL-URL:https://sunchales.gob.ar
X-WR-CALDESC:Eventos para Municipalidad de Sunchales
REFRESH-INTERVAL;VALUE=DURATION:PT1H
X-Robots-Tag:noindex
X-PUBLISHED-TTL:PT1H
BEGIN:VTIMEZONE
TZID:America/Argentina/Buenos_Aires
BEGIN:STANDARD
TZOFFSETFROM:-0300
TZOFFSETTO:-0300
TZNAME:-03
DTSTART:20260101T000000
END:STANDARD
END:VTIMEZONE
BEGIN:VEVENT
DTSTART;TZID=America/Argentina/Buenos_Aires:20260424T190000
DTEND;TZID=America/Argentina/Buenos_Aires:20260424T190000
DTSTAMP:20260424T015719
CREATED:20260421T123134Z
LAST-MODIFIED:20260421T134354Z
UID:6040-1777057200-1777057200@sunchales.gob.ar
SUMMARY:Inauguración de la muestra "Orígenes Imaginados"
DESCRIPTION:El Museo y Archivo Histórico «Basilio María Donato» invita a la comunidad a participar de la Inauguración de la Muestra «Orígenes Imaginados» a desarrollarse el próximo viernes 24 de abril a partir de la hora 19 en instalaciones del museo. \n¡Los esperamos!
URL:https://sunchales.gob.ar/evento/inauguracion-de-la-muestra-origenes-imaginados/
LOCATION:Museo y Archivo Histórico «B. M. Donato»
ATTACH;FMTTYPE=image/jpeg:https://sunchales.gob.ar/wp-content/uploads/2026/04/Inauguracion-museo.jpg-1.jpeg
END:VEVENT
END:VCALENDAR