BEGIN:VCALENDAR
VERSION:2.0
PRODID:-//Municipalidad de Sunchales - ECPv6.14.2//NONSGML v1.0//EN
CALSCALE:GREGORIAN
METHOD:PUBLISH
X-WR-CALNAME:Municipalidad de Sunchales
X-ORIGINAL-URL:https://sunchales.gob.ar
X-WR-CALDESC:Eventos para Municipalidad de Sunchales
REFRESH-INTERVAL;VALUE=DURATION:PT1H
X-Robots-Tag:noindex
X-PUBLISHED-TTL:PT1H
BEGIN:VTIMEZONE
TZID:America/Argentina/Buenos_Aires
BEGIN:STANDARD
TZOFFSETFROM:-0300
TZOFFSETTO:-0300
TZNAME:-03
DTSTART:20260101T000000
END:STANDARD
END:VTIMEZONE
BEGIN:VEVENT
DTSTART;TZID=America/Argentina/Buenos_Aires:20260423T190000
DTEND;TZID=America/Argentina/Buenos_Aires:20260423T190000
DTSTAMP:20260423T063323
CREATED:20260421T170707Z
LAST-MODIFIED:20260421T170832Z
UID:6082-1776970800-1776970800@sunchales.gob.ar
SUMMARY:Acto por el Día del Idioma
DESCRIPTION:El Centro de Estudios de la Lengua y la Subsecretaría de Cultura de la Municipalidad de Sunchales invitan a participar del Acto por el Día del Idioma. \n\nJueves 23 de abril\n19:00 hs.\nCasa de la Cultura (Rotania y Pasteur)\n\nEn está oportunidad se reconocerán a los alumnos de la escuelas primarías y secundarias que en 7° grado y en 5° año\, del año 2025\, se han destacado en la lectura\, escritura creativa\, como así también en el buen uso del idioma nacional. \nEl acto se desarrollará en el marco de las actividades del proyecto «Sunchales | Camino a los 140 años» y de los 50 años del Centro de Estudios de la Lengua.
URL:https://sunchales.gob.ar/evento/acto-por-el-dia-del-idioma/
LOCATION:Casa de la Cultura
ATTACH;FMTTYPE=image/jpeg:https://sunchales.gob.ar/wp-content/uploads/2026/04/Feed-Dia-del-Idioma.jpg.jpeg
END:VEVENT
END:VCALENDAR