BEGIN:VCALENDAR
VERSION:2.0
PRODID:-//Municipalidad de Sunchales - ECPv6.14.2//NONSGML v1.0//EN
CALSCALE:GREGORIAN
METHOD:PUBLISH
X-WR-CALNAME:Municipalidad de Sunchales
X-ORIGINAL-URL:https://sunchales.gob.ar
X-WR-CALDESC:Eventos para Municipalidad de Sunchales
REFRESH-INTERVAL;VALUE=DURATION:PT1H
X-Robots-Tag:noindex
X-PUBLISHED-TTL:PT1H
BEGIN:VTIMEZONE
TZID:America/Argentina/Buenos_Aires
BEGIN:STANDARD
TZOFFSETFROM:-0300
TZOFFSETTO:-0300
TZNAME:-03
DTSTART:20260101T000000
END:STANDARD
END:VTIMEZONE
BEGIN:VEVENT
DTSTART;TZID=America/Argentina/Buenos_Aires:20260417T080000
DTEND;TZID=America/Argentina/Buenos_Aires:20260417T170000
DTSTAMP:20260425T150844
CREATED:20260417T122533Z
LAST-MODIFIED:20260417T122533Z
UID:6028-1776412800-1776445200@sunchales.gob.ar
SUMMARY:Bioferia y compostaje
DESCRIPTION:¡Se viene la Bioferia y Compostaje! 🌿✨ \n¿Sabías que el cambio empieza en casa? 🌎💚 \n​Te invitamos a celebrar el Mes del Compostaje con una jornada llena de aprendizajes y para compartir charlas\, talleres y experiencias regenerativas. \n/  \n​🙌 Vení a conocer más sobre producciones regenerativas y llevate herramientas para aplicar.
URL:https://sunchales.gob.ar/evento/bioferia-y-compostaje/
ATTACH;FMTTYPE=image/jpeg:https://sunchales.gob.ar/wp-content/uploads/2026/04/1.jpeg
END:VEVENT
BEGIN:VEVENT
DTSTART;TZID=America/Argentina/Buenos_Aires:20260417T210000
DTEND;TZID=America/Argentina/Buenos_Aires:20260417T230000
DTSTAMP:20260425T150844
CREATED:20260416T163548Z
LAST-MODIFIED:20260416T163548Z
UID:6019-1776459600-1776466800@sunchales.gob.ar
SUMMARY:Obra de teatro"Tacuarita" en Sunchales
DESCRIPTION:🎭 ¡Nuevas funciones de Tacuarita! 🎭 \nTACUARITA regresa a Sunchales con dos nuevas funciones en Casa Steigleder y con la colaboración de la Municipalidad de Sunchales. \nLa obra escrita y dirigida por Marcelo Allasino y protagonizada por la reconocida artista local Susana Rizzotto\, propone un viaje sensible y profundo por la\nmemoria y el deseo\, con la fiesta popular más convocante de fondo. ✨ \n🎭 Funciones: \n📅 Viernes 17 de abril — 21:00 hs. \n📅 Domingo 19 de abril — 20:00 hs. \n📍 Casa Steigleder\, Balbín 333 – Sunchales. \n🎟 Entrada General $ 18.000 / Anticipadas por\nWhatsApp al 📞3493-667848. \n¡Los esperamos! 🤩🎭
URL:https://sunchales.gob.ar/evento/obra-de-teatrotacuarita-en-sunchales/
LOCATION:Casa Steigleder
ATTACH;FMTTYPE=image/png:https://sunchales.gob.ar/wp-content/uploads/2026/04/Tacuarita.png
END:VEVENT
END:VCALENDAR