BEGIN:VCALENDAR
VERSION:2.0
PRODID:-//Municipalidad de Sunchales - ECPv6.14.2//NONSGML v1.0//EN
CALSCALE:GREGORIAN
METHOD:PUBLISH
X-WR-CALNAME:Municipalidad de Sunchales
X-ORIGINAL-URL:https://sunchales.gob.ar
X-WR-CALDESC:Eventos para Municipalidad de Sunchales
REFRESH-INTERVAL;VALUE=DURATION:PT1H
X-Robots-Tag:noindex
X-PUBLISHED-TTL:PT1H
BEGIN:VTIMEZONE
TZID:America/Argentina/Buenos_Aires
BEGIN:STANDARD
TZOFFSETFROM:-0300
TZOFFSETTO:-0300
TZNAME:-03
DTSTART:20250101T000000
END:STANDARD
END:VTIMEZONE
BEGIN:VEVENT
DTSTART;TZID=America/Argentina/Buenos_Aires:20251116T200000
DTEND;TZID=America/Argentina/Buenos_Aires:20251116T220000
DTSTAMP:20260423T051214
CREATED:20251110T130107Z
LAST-MODIFIED:20251110T130107Z
UID:5514-1763323200-1763330400@sunchales.gob.ar
SUMMARY:5 Comedias\, Cero Drama
DESCRIPTION:La Sociedad Italiana presenta “5 Comedias\, Cero Drama”\, una divertida propuesta teatral con obras en italiano\, pensadas para ser disfrutadas y comprendidas por todo el público.\nLas puestas en escena están a cargo del Laboratorio de Teatro de la institución.\nUna noche para disfrutar del humor y el arte local\, en un encuentro que celebra la cultura y las tradiciones italianas.\nEntrada: $10.000\nVenta de entradas: en la secretaría de la institución (lunes\, miércoles y viernes de 8 a 12 h; martes y jueves de 14 a 18 h) o con miembros del Laboratorio de Teatro.\nActividad apta para todo público.
URL:https://sunchales.gob.ar/evento/5-comedias-cero-drama/
LOCATION:Sociedad Italiana «Alfredo Cappellini»\, Italia 226
END:VEVENT
END:VCALENDAR