BEGIN:VCALENDAR
VERSION:2.0
PRODID:-//Municipalidad de Sunchales - ECPv6.14.2//NONSGML v1.0//EN
CALSCALE:GREGORIAN
METHOD:PUBLISH
X-WR-CALNAME:Municipalidad de Sunchales
X-ORIGINAL-URL:https://sunchales.gob.ar
X-WR-CALDESC:Eventos para Municipalidad de Sunchales
REFRESH-INTERVAL;VALUE=DURATION:PT1H
X-Robots-Tag:noindex
X-PUBLISHED-TTL:PT1H
BEGIN:VTIMEZONE
TZID:America/Argentina/Buenos_Aires
BEGIN:STANDARD
TZOFFSETFROM:-0300
TZOFFSETTO:-0300
TZNAME:-03
DTSTART:20250101T000000
END:STANDARD
END:VTIMEZONE
BEGIN:VEVENT
DTSTART;TZID=America/Argentina/Buenos_Aires:20251115T180000
DTEND;TZID=America/Argentina/Buenos_Aires:20251115T180000
DTSTAMP:20260423T063536
CREATED:20251106T121026Z
LAST-MODIFIED:20251106T121305Z
UID:5474-1763229600-1763229600@sunchales.gob.ar
SUMMARY:ESO QUE SOMOS "Tradición\, identidad y soberanía"
DESCRIPTION:Te invitamos a compartir una jornada donde la música\, la danza y nuestras raíces se encuentran.\n🫂 Celebremos juntos eso que nos une\, ESO QUE SOMOS: La pasión por lo nuestro\, la identidad que nos representa y el orgullo de ser argentinos. \n🎶 Artistas en escena:\n• Nahuel Carlevaris.\n• Aire Nuevo.\n• La Viajera. \n¡LOS ESPERAMOS! ♥️
URL:https://sunchales.gob.ar/evento/eso-que-somos-tradicion-identidad-y-soberania/
END:VEVENT
END:VCALENDAR