BEGIN:VCALENDAR
VERSION:2.0
PRODID:-//Municipalidad de Sunchales - ECPv6.14.2//NONSGML v1.0//EN
CALSCALE:GREGORIAN
METHOD:PUBLISH
X-ORIGINAL-URL:https://sunchales.gob.ar
X-WR-CALDESC:Eventos para Municipalidad de Sunchales
REFRESH-INTERVAL;VALUE=DURATION:PT1H
X-Robots-Tag:noindex
X-PUBLISHED-TTL:PT1H
BEGIN:VTIMEZONE
TZID:America/Argentina/Buenos_Aires
BEGIN:STANDARD
TZOFFSETFROM:-0300
TZOFFSETTO:-0300
TZNAME:-03
DTSTART:20250101T000000
END:STANDARD
END:VTIMEZONE
BEGIN:VEVENT
DTSTART;TZID=America/Argentina/Buenos_Aires:20250620T160000
DTEND;TZID=America/Argentina/Buenos_Aires:20250620T170000
DTSTAMP:20260421T093752
CREATED:20251001T133032Z
LAST-MODIFIED:20251001T133032Z
UID:5273-1750435200-1750438800@sunchales.gob.ar
SUMMARY:Merienda Solidaria Con Bingo
DESCRIPTION:Organiza: ALPID\nViernes 20 de Junio Desde las 16 hs.\nLugar: Salón Parrilla Club Unión (Av. Belgrano y G. Miretti)\nApto para todo público\nValor $12.000 incluye 2 cartones\nSe adquieren de forma personal y presencial en la oficina (E. Zeballos 1059)
URL:https://sunchales.gob.ar/evento/merienda-solidaria-con-bingo/
CATEGORIES:Bienestar
END:VEVENT
END:VCALENDAR